BEGIN:VCALENDAR
VERSION:2.0
PRODID:-//Ducaticlub Lëtzebuerg - ECPv4.1.2//NONSGML v1.0//EN
CALSCALE:GREGORIAN
METHOD:PUBLISH
X-WR-CALNAME:Ducaticlub Lëtzebuerg
X-ORIGINAL-URL:http://ducaticlub.lu
X-WR-CALDESC:Events for Ducaticlub Lëtzebuerg
BEGIN:VEVENT
DTSTART;TZID=UTC+0:20160701T080000
DTEND;TZID=UTC+0:20160703T170000
DTSTAMP:20190819T221924
CREATED:20160321T181452
LAST-MODIFIED:20160321T183515
UID:91-1467360000-1467565200@ducaticlub.lu
SUMMARY:WDW
DESCRIPTION:
URL:http://ducaticlub.lu/event/wdw-ducati/
LOCATION:mesano\, Italy
END:VEVENT
END:VCALENDAR